BEGIN:VCALENDAR
VERSION:2.0
PRODID:-//Talentraa - ECPv6.15.14//NONSGML v1.0//EN
CALSCALE:GREGORIAN
METHOD:PUBLISH
X-WR-CALNAME:Talentraa
X-ORIGINAL-URL:https://talentraa.com
X-WR-CALDESC:Events for Talentraa
REFRESH-INTERVAL;VALUE=DURATION:PT1H
X-Robots-Tag:noindex
X-PUBLISHED-TTL:PT1H
BEGIN:VTIMEZONE
TZID:UTC
BEGIN:STANDARD
TZOFFSETFROM:+0000
TZOFFSETTO:+0000
TZNAME:UTC
DTSTART:20250101T000000
END:STANDARD
END:VTIMEZONE
BEGIN:VEVENT
DTSTART;TZID=UTC:20260217T080000
DTEND;TZID=UTC:20260217T170000
DTSTAMP:20260420T025518
CREATED:20260217T152440Z
LAST-MODIFIED:20260217T152440Z
UID:16324-1771315200-1771347600@talentraa.com
SUMMARY:Professional LinkedIn Profile Optimization & Live Consultation
DESCRIPTION:Event Description\nThis session was designed to help participants strengthen their professional LinkedIn presence and improve career visibility. The workshop covered everything from understanding LinkedIn’s role in modern hiring to optimizing profiles for recruiters and search results. \nParticipants learned how to improve their LinkedIn SSI (Social Selling Index)\, apply LinkedIn SEO best practices\, and use proven strategies for growth\, networking\, and job applications. The session concluded with a clear action plan to help attendees implement changes immediately and start seeing measurable results. \nTopics Covered\n\nIntroduction to LinkedIn & SSI (Social Selling Index)\n\nProfile Optimization (Headline\, About\, Experience\, Skills)\n\nLinkedIn SEO & Algorithm Insights\n\nGrowth & Job Application Strategies\n\nAction Plan: How to Win on LinkedIn\n\n\nTeacher & Speaker\nUvindu Manohara
URL:https://talentraa.com/event/professional-linkedin-profile-optimization-live-consultation-2/
END:VEVENT
END:VCALENDAR