BEGIN:VCALENDAR
VERSION:2.0
PRODID:-//Talentraa - ECPv6.15.14//NONSGML v1.0//EN
CALSCALE:GREGORIAN
METHOD:PUBLISH
X-WR-CALNAME:Talentraa
X-ORIGINAL-URL:https://talentraa.com
X-WR-CALDESC:Events for Talentraa
REFRESH-INTERVAL;VALUE=DURATION:PT1H
X-Robots-Tag:noindex
X-PUBLISHED-TTL:PT1H
BEGIN:VTIMEZONE
TZID:UTC
BEGIN:STANDARD
TZOFFSETFROM:+0000
TZOFFSETTO:+0000
TZNAME:UTC
DTSTART:20420101T000000
END:STANDARD
END:VTIMEZONE
BEGIN:VEVENT
DTSTART;TZID=UTC:20431220T080000
DTEND;TZID=UTC:20431220T170000
DTSTAMP:20260420T052841
CREATED:20241109T025618Z
LAST-MODIFIED:20260212T170042Z
UID:14521-2334211200-2334243600@talentraa.com
SUMMARY:Innova online Smart Factory training amidst a global pandemic
DESCRIPTION:Professional LinkedIn Profile Optimization & Live Consultation\n\n8:00 am – 11 am\n Google Meet\n\n \nEvents Description\nThis session was designed to help participants strengthen their professional LinkedIn presence and improve career visibility. The workshop covered everything from understanding LinkedIn’s role in modern hiring to optimizing profiles for recruiters and search results. \nParticipants learned how to improve their LinkedIn SSI (Social Selling Index)\, apply LinkedIn SEO best practices\, and use proven strategies for growth\, networking\, and job applications. The session concluded with a clear action plan to help attendees implement changes immediately and start seeing measurable results. \n\nIntroduction to LinkedIn & SSI (Social Selling Index)\nProfile Optimization (Headline\, About\, Experience\, Skills)\nLinkedIn SEO & Algorithm Insights\nGrowth & Job Application Strategies\nAction Plan: How to Win on LinkedIn\n\n \nTeachers & Speakers\n \n\nShah Zahory \nDeveloper and Teacher\nI’m a developer with a passion for teaching. I’m the lead instructor at the London App Brewery\, London’s leading Programming Bootcamp. I’ve helped hundreds of thousands of students learn to code and change their lives by becoming a developer. I’ve been invited by companies such as Twitter\, Facebook and Google to teach their employees.\nMy first foray into programming was when I was just 12 years old\, wanting to build my own Space Invader game. Since then\, I’ve made hundred of websites\, apps and games. But most importantly\, I realised that my greatest passion is teaching.\nI spend most of my time researching how to make learning to code fun and make hard concepts easy to understand. I apply everything I discover into my bootcamp courses. In my courses\, you’ll find lots of geeky humour but also lots of explanations and animations to make sure everything is easy to understand.\nI’ll be there for you every step of the way.\nPhone:+1834 123 456 789\nEmail:laiquyetthangg@gmail.com\n\nsocial\n\n\nsocial\n\n\nsocial\n\n\nsocial\n\n \n\nMaya Singh \nDeveloper and Teacher\nI’m a developer with a passion for teaching. I’m the lead instructor at the London App Brewery\, London’s leading Programming Bootcamp. I’ve helped hundreds of thousands of students learn to code and change their lives by becoming a developer. I’ve been invited by companies such as Twitter\, Facebook and Google to teach their employees.\nMy first foray into programming was when I was just 12 years old\, wanting to build my own Space Invader game. Since then\, I’ve made hundred of websites\, apps and games. But most importantly\, I realised that my greatest passion is teaching.\nI spend most of my time researching how to make learning to code fun and make hard concepts easy to understand. I apply everything I discover into my bootcamp courses. In my courses\, you’ll find lots of geeky humour but also lots of explanations and animations to make sure everything is easy to understand.\nI’ll be there for you every step of the way.\nPhone:+1834 123 456 789\nEmail:mayasingh@gmail.com\n\nsocial\n\n\nsocial\n\n\nsocial\n\n\nsocial\n\n \n\nLeslie Alexander \nDeveloper and Teacher\nI’m a developer with a passion for teaching. I’m the lead instructor at the London App Brewery\, London’s leading Programming Bootcamp. I’ve helped hundreds of thousands of students learn to code and change their lives by becoming a developer. I’ve been invited by companies such as Twitter\, Facebook and Google to teach their employees.\nMy first foray into programming was when I was just 12 years old\, wanting to build my own Space Invader game. Since then\, I’ve made hundred of websites\, apps and games. But most importantly\, I realised that my greatest passion is teaching.\nI spend most of my time researching how to make learning to code fun and make hard concepts easy to understand. I apply everything I discover into my bootcamp courses. In my courses\, you’ll find lots of geeky humour but also lots of explanations and animations to make sure everything is easy to understand.\nI’ll be there for you every step of the way.\nPhone:+1834 123 456 789\nEmail:lesliealexander@gmail.com\n\nsocial\n\n\nsocial\n\n\nsocial\n\n\nsocial\n\n \n\nAlan Begham \nEvent Speaker\nI’m a developer with a passion for teaching. I’m the lead instructor at the London App Brewery\, London’s leading Programming Bootcamp. I’ve helped hundreds of thousands of students learn to code and change their lives by becoming a developer. I’ve been invited by companies such as Twitter\, Facebook and Google to teach their employees.\nMy first foray into programming was when I was just 12 years old\, wanting to build my own Space Invader game. Since then\, I’ve made hundred of websites\, apps and games. But most importantly\, I realised that my greatest passion is teaching.\nI spend most of my time researching how to make learning to code fun and make hard concepts easy to understand. I apply everything I discover into my bootcamp courses. In my courses\, you’ll find lots of geeky humour but also lots of explanations and animations to make sure everything is easy to understand.\nI’ll be there for you every step of the way.\nPhone:+1834 123 456 789\nEmail:alan-begham@gmail.com\n\nsocial\n\n\nsocial\n\n\nsocial\n\n\nsocial
URL:https://talentraa.com/event/professional-linkedin-profile-optimization-live-consultation/
LOCATION:Clinton Lane Wilkes Barre\, PA 18702
ATTACH;FMTTYPE=image/jpeg:https://talentraa.com/wp-content/uploads/2024/10/placehold.jpg
END:VEVENT
END:VCALENDAR